BEGIN:VCALENDAR
VERSION:2.0
PRODID:-//Senior Financial Group - ECPv6.15.13//NONSGML v1.0//EN
CALSCALE:GREGORIAN
METHOD:PUBLISH
X-WR-CALNAME:Senior Financial Group
X-ORIGINAL-URL:https://sfgmedicare.com
X-WR-CALDESC:Events for Senior Financial Group
REFRESH-INTERVAL;VALUE=DURATION:PT1H
X-Robots-Tag:noindex
X-PUBLISHED-TTL:PT1H
BEGIN:VTIMEZONE
TZID:America/New_York
BEGIN:DAYLIGHT
TZOFFSETFROM:-0500
TZOFFSETTO:-0400
TZNAME:EDT
DTSTART:20220313T070000
END:DAYLIGHT
BEGIN:STANDARD
TZOFFSETFROM:-0400
TZOFFSETTO:-0500
TZNAME:EST
DTSTART:20221106T060000
END:STANDARD
BEGIN:DAYLIGHT
TZOFFSETFROM:-0500
TZOFFSETTO:-0400
TZNAME:EDT
DTSTART:20230312T070000
END:DAYLIGHT
BEGIN:STANDARD
TZOFFSETFROM:-0400
TZOFFSETTO:-0500
TZNAME:EST
DTSTART:20231105T060000
END:STANDARD
BEGIN:DAYLIGHT
TZOFFSETFROM:-0500
TZOFFSETTO:-0400
TZNAME:EDT
DTSTART:20240310T070000
END:DAYLIGHT
BEGIN:STANDARD
TZOFFSETFROM:-0400
TZOFFSETTO:-0500
TZNAME:EST
DTSTART:20241103T060000
END:STANDARD
END:VTIMEZONE
BEGIN:VEVENT
DTSTART;TZID=America/New_York:20230330T123000
DTEND;TZID=America/New_York:20230330T163000
DTSTAMP:20260425T210529
CREATED:20230106T154809Z
LAST-MODIFIED:20230308T164839Z
UID:10000123-1680179400-1680193800@sfgmedicare.com
SUMMARY:Knoxville Bar Association - Law Practice Today Expo
DESCRIPTION:Join Senior Financial Group at the 2023 Law Practice Today Expo on March 30 and 31\, 2023. \nThe Expo combines continuing legal education\, access to business service providers\, and networking events to help local lawyers do their job better\, faster and more efficiently. The theme for the 2023 Expo is “Technology & Management Best Practices for a Modern Law Office”. The presentations\, panel discussions and idea exchanges will provide education and networking to lawyers and law firm staff from large\, small and midsize firms.
URL:https://sfgmedicare.com/event/knoxville-bar-association-law-practice-today-expo/
LOCATION:University of Tennessee Conference Center\, 600 Henley Street\, Knoxville\, TN\, 37902\, United States
CATEGORIES:Events
ATTACH;FMTTYPE=image/webp:https://sfgmedicare.com/app/uploads/2023/01/expo-logo-20231.webp
END:VEVENT
END:VCALENDAR