BEGIN:VCALENDAR
VERSION:2.0
PRODID:-//Senior Financial Group - ECPv6.15.13//NONSGML v1.0//EN
CALSCALE:GREGORIAN
METHOD:PUBLISH
X-ORIGINAL-URL:https://sfgmedicare.com
X-WR-CALDESC:Events for Senior Financial Group
REFRESH-INTERVAL;VALUE=DURATION:PT1H
X-Robots-Tag:noindex
X-PUBLISHED-TTL:PT1H
BEGIN:VTIMEZONE
TZID:America/New_York
BEGIN:DAYLIGHT
TZOFFSETFROM:-0500
TZOFFSETTO:-0400
TZNAME:EDT
DTSTART:20220313T070000
END:DAYLIGHT
BEGIN:STANDARD
TZOFFSETFROM:-0400
TZOFFSETTO:-0500
TZNAME:EST
DTSTART:20221106T060000
END:STANDARD
BEGIN:DAYLIGHT
TZOFFSETFROM:-0500
TZOFFSETTO:-0400
TZNAME:EDT
DTSTART:20230312T070000
END:DAYLIGHT
BEGIN:STANDARD
TZOFFSETFROM:-0400
TZOFFSETTO:-0500
TZNAME:EST
DTSTART:20231105T060000
END:STANDARD
BEGIN:DAYLIGHT
TZOFFSETFROM:-0500
TZOFFSETTO:-0400
TZNAME:EDT
DTSTART:20240310T070000
END:DAYLIGHT
BEGIN:STANDARD
TZOFFSETFROM:-0400
TZOFFSETTO:-0500
TZNAME:EST
DTSTART:20241103T060000
END:STANDARD
END:VTIMEZONE
BEGIN:VEVENT
DTSTART;TZID=America/New_York:20230527T190000
DTEND;TZID=America/New_York:20230527T220000
DTSTAMP:20260425T175249
CREATED:20230504T164511Z
LAST-MODIFIED:20230504T164511Z
UID:10000131-1685214000-1685224800@sfgmedicare.com
SUMMARY:Tennessee Smokies – Margaritaville Night
DESCRIPTION:Are you ready for a night of fun and excitement? Join Senior Financial Group at the Tennessee Smokies baseball game on Saturday\, May 27\, for Margaritaville Night! Bring your friends and family to enjoy a night of baseball\, music\, and margaritas. It’s the perfect opportunity to spend quality time with loved ones while experiencing the thrill of a live baseball game. You can also learn more about our Medicare plans and services while having a great time. Don’t miss out on this amazing event\, get your tickets now!
URL:https://sfgmedicare.com/event/tennessee-smokies-margaritaville-night/
LOCATION:Tennessee Smokies Stadium\, 3540 Line Dr\, Kodak\, TN\, 37764
CATEGORIES:Events
ATTACH;FMTTYPE=image/jpeg:https://sfgmedicare.com/app/uploads/2023/04/553.jpg
END:VEVENT
END:VCALENDAR