BEGIN:VCALENDAR
VERSION:2.0
PRODID:-//Senior Financial Group - ECPv6.15.13//NONSGML v1.0//EN
CALSCALE:GREGORIAN
METHOD:PUBLISH
X-WR-CALNAME:Senior Financial Group
X-ORIGINAL-URL:https://sfgmedicare.com
X-WR-CALDESC:Events for Senior Financial Group
REFRESH-INTERVAL;VALUE=DURATION:PT1H
X-Robots-Tag:noindex
X-PUBLISHED-TTL:PT1H
BEGIN:VTIMEZONE
TZID:America/New_York
BEGIN:DAYLIGHT
TZOFFSETFROM:-0500
TZOFFSETTO:-0400
TZNAME:EDT
DTSTART:20220313T070000
END:DAYLIGHT
BEGIN:STANDARD
TZOFFSETFROM:-0400
TZOFFSETTO:-0500
TZNAME:EST
DTSTART:20221106T060000
END:STANDARD
BEGIN:DAYLIGHT
TZOFFSETFROM:-0500
TZOFFSETTO:-0400
TZNAME:EDT
DTSTART:20230312T070000
END:DAYLIGHT
BEGIN:STANDARD
TZOFFSETFROM:-0400
TZOFFSETTO:-0500
TZNAME:EST
DTSTART:20231105T060000
END:STANDARD
BEGIN:DAYLIGHT
TZOFFSETFROM:-0500
TZOFFSETTO:-0400
TZNAME:EDT
DTSTART:20240310T070000
END:DAYLIGHT
BEGIN:STANDARD
TZOFFSETFROM:-0400
TZOFFSETTO:-0500
TZNAME:EST
DTSTART:20241103T060000
END:STANDARD
END:VTIMEZONE
BEGIN:VEVENT
DTSTART;TZID=America/New_York:20230830T150000
DTEND;TZID=America/New_York:20230830T160000
DTSTAMP:20260425T072858
CREATED:20230801T183844Z
LAST-MODIFIED:20230814T203028Z
UID:10000149-1693407600-1693411200@sfgmedicare.com
SUMMARY:Senior Happy Hour - Metro Drug Coalition
DESCRIPTION:Have you ever wondered how you can be sure that you’re taking your medicines as prescribed? Are you properly storing your medications? What are you supposed to do with medications that you no longer use? What safety measures can you take if you accidentally take too much of a certain medication? Metro Drug Coalition is here to answer your questions about medication safety for seniors\, and to provide tips to make sure that your home is as safe as possible. \nBethany Lemons\, Prevention & Outreach Coordinator at Metro Drug Coalition\, will be speaking on Wednesday\, August 30 from 3-4 p.m. She will be sharing her presentation “Medication Safety: Tips for Seniors”. \nThis event is free and open-to-the-public. Non-alcoholic drinks and snacks will be provided for your enjoyment throughout the event.
URL:https://sfgmedicare.com/event/senior-happy-hour-medication-safety-tips-for-seniors/
LOCATION:Senior Financial Group\, 10201 Parkside Drive\, Knoxville\, TN\, 37922\, United States
CATEGORIES:Senior Happy Hour
ATTACH;FMTTYPE=image/jpeg:https://sfgmedicare.com/app/uploads/2023/08/Medicare-Workshop-17.jpg
END:VEVENT
END:VCALENDAR