BEGIN:VCALENDAR
VERSION:2.0
PRODID:-//Senior Financial Group - ECPv6.15.13//NONSGML v1.0//EN
CALSCALE:GREGORIAN
METHOD:PUBLISH
X-ORIGINAL-URL:https://sfgmedicare.com
X-WR-CALDESC:Events for Senior Financial Group
REFRESH-INTERVAL;VALUE=DURATION:PT1H
X-Robots-Tag:noindex
X-PUBLISHED-TTL:PT1H
BEGIN:VTIMEZONE
TZID:America/New_York
BEGIN:DAYLIGHT
TZOFFSETFROM:-0500
TZOFFSETTO:-0400
TZNAME:EDT
DTSTART:20220313T070000
END:DAYLIGHT
BEGIN:STANDARD
TZOFFSETFROM:-0400
TZOFFSETTO:-0500
TZNAME:EST
DTSTART:20221106T060000
END:STANDARD
BEGIN:DAYLIGHT
TZOFFSETFROM:-0500
TZOFFSETTO:-0400
TZNAME:EDT
DTSTART:20230312T070000
END:DAYLIGHT
BEGIN:STANDARD
TZOFFSETFROM:-0400
TZOFFSETTO:-0500
TZNAME:EST
DTSTART:20231105T060000
END:STANDARD
BEGIN:DAYLIGHT
TZOFFSETFROM:-0500
TZOFFSETTO:-0400
TZNAME:EDT
DTSTART:20240310T070000
END:DAYLIGHT
BEGIN:STANDARD
TZOFFSETFROM:-0400
TZOFFSETTO:-0500
TZNAME:EST
DTSTART:20241103T060000
END:STANDARD
END:VTIMEZONE
BEGIN:VEVENT
DTSTART;TZID=America/New_York:20230908T080000
DTEND;TZID=America/New_York:20230908T160000
DTSTAMP:20260425T072953
CREATED:20230727T230023Z
LAST-MODIFIED:20230901T200615Z
UID:10000148-1694160000-1694188800@sfgmedicare.com
SUMMARY:TSHCSW Mid East Council Ethics Conference
DESCRIPTION:Tennessee Society of HealthCare Social Workers is hosting the Annual Ethics Conference on Friday\, September 8\, 2023\, at Lighthouse Knoxville.
URL:https://sfgmedicare.com/event/tshcsw-mid-east-council-ethics-conference/
LOCATION:Lighthouse Knoxville\, 6804 Baum Dr\, Knoxville\, TN\, 37919\, United States
CATEGORIES:Events
ATTACH;FMTTYPE=image/jpeg:https://sfgmedicare.com/app/uploads/2023/07/Medicare-Workshop-16.jpg
END:VEVENT
BEGIN:VEVENT
DTSTART;TZID=America/New_York:20230908T103000
DTEND;TZID=America/New_York:20230908T170000
DTSTAMP:20260425T072953
CREATED:20230829T193230Z
LAST-MODIFIED:20230901T201120Z
UID:10000155-1694169000-1694192400@sfgmedicare.com
SUMMARY:O'Connor Senior Center Golf Tournament
DESCRIPTION:Senior Financial Group is proud to be the presenting sponsor of the 2023 O’Connor Senior Center Golf Tournament!\n⁠\nThe tournament will take place on Friday\, September 8 at the Three Ridges Golf Course. For more information and to register a team\, visit the Knoxville-Knox County CAC Office on Aging website at https://www.knoxseniors.org/oconnor-senior-center-golf…/.
URL:https://sfgmedicare.com/event/oconnor-senior-center-golf-tournament/
LOCATION:Three Ridges Golf Coure\, 6101 Wise Springs Rd\, Knoxville\, TN\, 37918\, United States
CATEGORIES:Events
ATTACH;FMTTYPE=image/jpeg:https://sfgmedicare.com/app/uploads/2023/08/Medicare-Workshop-23.jpg
END:VEVENT
END:VCALENDAR