BEGIN:VCALENDAR
VERSION:2.0
PRODID:-//Senior Financial Group - ECPv6.15.13//NONSGML v1.0//EN
CALSCALE:GREGORIAN
METHOD:PUBLISH
X-WR-CALNAME:Senior Financial Group
X-ORIGINAL-URL:https://sfgmedicare.com
X-WR-CALDESC:Events for Senior Financial Group
REFRESH-INTERVAL;VALUE=DURATION:PT1H
X-Robots-Tag:noindex
X-PUBLISHED-TTL:PT1H
BEGIN:VTIMEZONE
TZID:America/New_York
BEGIN:DAYLIGHT
TZOFFSETFROM:-0500
TZOFFSETTO:-0400
TZNAME:EDT
DTSTART:20220313T070000
END:DAYLIGHT
BEGIN:STANDARD
TZOFFSETFROM:-0400
TZOFFSETTO:-0500
TZNAME:EST
DTSTART:20221106T060000
END:STANDARD
BEGIN:DAYLIGHT
TZOFFSETFROM:-0500
TZOFFSETTO:-0400
TZNAME:EDT
DTSTART:20230312T070000
END:DAYLIGHT
BEGIN:STANDARD
TZOFFSETFROM:-0400
TZOFFSETTO:-0500
TZNAME:EST
DTSTART:20231105T060000
END:STANDARD
BEGIN:DAYLIGHT
TZOFFSETFROM:-0500
TZOFFSETTO:-0400
TZNAME:EDT
DTSTART:20240310T070000
END:DAYLIGHT
BEGIN:STANDARD
TZOFFSETFROM:-0400
TZOFFSETTO:-0500
TZNAME:EST
DTSTART:20241103T060000
END:STANDARD
END:VTIMEZONE
BEGIN:VEVENT
DTSTART;TZID=America/New_York:20231007T090000
DTEND;TZID=America/New_York:20231008T180000
DTSTAMP:20260425T072856
CREATED:20230829T181958Z
LAST-MODIFIED:20230901T201457Z
UID:10000154-1696669200-1696788000@sfgmedicare.com
SUMMARY:WATE-TV Women's Spectacular
DESCRIPTION:Join Senior Financial Group at the Pinnacle at Turkey Creek for the third annual Women’s Spectacular. This event is free and focused on health and wellness.
URL:https://sfgmedicare.com/event/wate-tv-womens-spectacular/2023-10-07/
LOCATION:Pinnacle at Turkey Creek\, 11251 Parkside Drive\, Knoxville\, TN\, 37934\, United States
CATEGORIES:Events
ATTACH;FMTTYPE=image/jpeg:https://sfgmedicare.com/app/uploads/2023/08/Medicare-Workshop-22.jpg
END:VEVENT
END:VCALENDAR