BEGIN:VCALENDAR
VERSION:2.0
PRODID:-//Senior Financial Group - ECPv6.15.13//NONSGML v1.0//EN
CALSCALE:GREGORIAN
METHOD:PUBLISH
X-WR-CALNAME:Senior Financial Group
X-ORIGINAL-URL:https://sfgmedicare.com
X-WR-CALDESC:Events for Senior Financial Group
REFRESH-INTERVAL;VALUE=DURATION:PT1H
X-Robots-Tag:noindex
X-PUBLISHED-TTL:PT1H
BEGIN:VTIMEZONE
TZID:America/New_York
BEGIN:DAYLIGHT
TZOFFSETFROM:-0500
TZOFFSETTO:-0400
TZNAME:EDT
DTSTART:20230312T070000
END:DAYLIGHT
BEGIN:STANDARD
TZOFFSETFROM:-0400
TZOFFSETTO:-0500
TZNAME:EST
DTSTART:20231105T060000
END:STANDARD
BEGIN:DAYLIGHT
TZOFFSETFROM:-0500
TZOFFSETTO:-0400
TZNAME:EDT
DTSTART:20240310T070000
END:DAYLIGHT
BEGIN:STANDARD
TZOFFSETFROM:-0400
TZOFFSETTO:-0500
TZNAME:EST
DTSTART:20241103T060000
END:STANDARD
BEGIN:DAYLIGHT
TZOFFSETFROM:-0500
TZOFFSETTO:-0400
TZNAME:EDT
DTSTART:20250309T070000
END:DAYLIGHT
BEGIN:STANDARD
TZOFFSETFROM:-0400
TZOFFSETTO:-0500
TZNAME:EST
DTSTART:20251102T060000
END:STANDARD
END:VTIMEZONE
BEGIN:VEVENT
DTSTART;TZID=America/New_York:20240222T150000
DTEND;TZID=America/New_York:20240222T160000
DTSTAMP:20260424T214633
CREATED:20240123T204000Z
LAST-MODIFIED:20240202T211225Z
UID:10000170-1708614000-1708617600@sfgmedicare.com
SUMMARY:Senior Happy Hour - Avoiding Scams & Preventing Fraud
DESCRIPTION:Curious about outsmarting scammers and safeguarding your financial peace of mind? Join us for an engaging Senior Happy Hour presentation featuring Tim Massie\, Financial Advisor at Edward Jones. Uncover the subtle red flags that might signal a fraudulent encounter\, explore available resources for those targeted\, and gain actionable insights to proactively protect yourself and your loved ones from Medicare scams. Don’t miss out on this opportunity to stay one step ahead of scammers and ensure a secure future! \nThis event is free and open-to-the-public. Drinks and snacks will be provided for your enjoyment throughout the event.
URL:https://sfgmedicare.com/event/senior-happy-hour-medicare-scams/
LOCATION:TN
CATEGORIES:Senior Happy Hour
ATTACH;FMTTYPE=image/jpeg:https://sfgmedicare.com/app/uploads/2024/01/Medicare-Workshop-28.jpg
END:VEVENT
END:VCALENDAR