BEGIN:VCALENDAR
VERSION:2.0
PRODID:-//Senior Financial Group - ECPv6.15.13//NONSGML v1.0//EN
CALSCALE:GREGORIAN
METHOD:PUBLISH
X-WR-CALNAME:Senior Financial Group
X-ORIGINAL-URL:https://sfgmedicare.com
X-WR-CALDESC:Events for Senior Financial Group
REFRESH-INTERVAL;VALUE=DURATION:PT1H
X-Robots-Tag:noindex
X-PUBLISHED-TTL:PT1H
BEGIN:VTIMEZONE
TZID:America/New_York
BEGIN:DAYLIGHT
TZOFFSETFROM:-0500
TZOFFSETTO:-0400
TZNAME:EDT
DTSTART:20220313T070000
END:DAYLIGHT
BEGIN:STANDARD
TZOFFSETFROM:-0400
TZOFFSETTO:-0500
TZNAME:EST
DTSTART:20221106T060000
END:STANDARD
BEGIN:DAYLIGHT
TZOFFSETFROM:-0500
TZOFFSETTO:-0400
TZNAME:EDT
DTSTART:20230312T070000
END:DAYLIGHT
BEGIN:STANDARD
TZOFFSETFROM:-0400
TZOFFSETTO:-0500
TZNAME:EST
DTSTART:20231105T060000
END:STANDARD
BEGIN:DAYLIGHT
TZOFFSETFROM:-0500
TZOFFSETTO:-0400
TZNAME:EDT
DTSTART:20240310T070000
END:DAYLIGHT
BEGIN:STANDARD
TZOFFSETFROM:-0400
TZOFFSETTO:-0500
TZNAME:EST
DTSTART:20241103T060000
END:STANDARD
END:VTIMEZONE
BEGIN:VEVENT
DTSTART;TZID=America/New_York:20230309T100000
DTEND;TZID=America/New_York:20230309T120000
DTSTAMP:20260425T210812
CREATED:20221215T202726Z
LAST-MODIFIED:20230308T171139Z
UID:10000108-1678356000-1678363200@sfgmedicare.com
SUMMARY:Medicare Workshop – Navigating Medicare
DESCRIPTION:Questions about Medicare? Senior Financial Group invites you to attend a FREE educational workshop: Navigating Medicare. \nThe workshop will be conducted at the Senior Financial Group office\, located at 10201 Parkside Drive\, and will also be available to live stream for those who cannot attend in person. \nThese monthly Medicare webinars are designed to provide simple answers to your complex questions. Our licensed insurance agent will help you understand all of your Medicare options and prepare you to make educated decisions regarding your coverage.  Webinar topics include: \n\nHow and when to enroll in Medicare\nThe difference between Original Medicare\, Medicare Supplements and Medicare Advantage plans\nWhat to do if you plan to work past 65\nAn Explanation of the four parts of Medicare (A-D)\nWhat does Medicare cost\n\nWhether you are turning 65 and still working or planning to retire soon\, you will have a chance to ask your specific questions to a trusted Medicare advisor during this free webinar.  If you are unable to attend\, please call our office to schedule a private consultation. We look forward to helping you identify the best coverage for you and your family. \n  \n\n      \n            \n            Register for this Webinar - September 24 @ 5:00 pm - 6:30 pm
URL:https://sfgmedicare.com/event/medicare-webinar-navigating-medicare-45/
LOCATION:Hybrid\, 10201 Parkside Drive\, Knoxville\, TN\, 37922\, United States
CATEGORIES:Workshops
ATTACH;FMTTYPE=image/png:https://sfgmedicare.com/app/uploads/2022/12/SFG-Facebook-Posts-8.png
END:VEVENT
BEGIN:VEVENT
DTSTART;TZID=America/New_York:20230321T140000
DTEND;TZID=America/New_York:20230321T160000
DTSTAMP:20260425T210812
CREATED:20221215T202910Z
LAST-MODIFIED:20230308T171437Z
UID:10000109-1679407200-1679414400@sfgmedicare.com
SUMMARY:Medicare Workshop – Navigating Medicare
DESCRIPTION:Questions about Medicare? Senior Financial Group invites you to attend a FREE educational workshop: Navigating Medicare. \nThe workshop will be conducted at the Senior Financial Group office\, located at 10201 Parkside Drive\, and will also be available to live stream for those who cannot attend in person. \nThese monthly Medicare webinars are designed to provide simple answers to your complex questions. Our licensed insurance agent will help you understand all of your Medicare options and prepare you to make educated decisions regarding your coverage.  Webinar topics include: \n\nHow and when to enroll in Medicare\nThe difference between Original Medicare\, Medicare Supplements and Medicare Advantage plans\nWhat to do if you plan to work past 65\nAn Explanation of the four parts of Medicare (A-D)\nWhat does Medicare cost\n\nWhether you are turning 65 and still working or planning to retire soon\, you will have a chance to ask your specific questions to a trusted Medicare advisor during this free webinar.  If you are unable to attend\, please call our office to schedule a private consultation. We look forward to helping you identify the best coverage for you and your family. \n  \n\n      \n            \n            Register for this Webinar - September 24 @ 5:00 pm - 6:30 pm
URL:https://sfgmedicare.com/event/medicare-webinar-navigating-medicare-46/
LOCATION:Hybrid\, 10201 Parkside Drive\, Knoxville\, TN\, 37922\, United States
CATEGORIES:Webinars
ATTACH;FMTTYPE=image/jpeg:https://sfgmedicare.com/app/uploads/2022/12/SFG-Facebook-Posts-36.jpg
END:VEVENT
BEGIN:VEVENT
DTSTART;TZID=America/New_York:20230330T123000
DTEND;TZID=America/New_York:20230330T163000
DTSTAMP:20260425T210812
CREATED:20230106T154809Z
LAST-MODIFIED:20230308T164839Z
UID:10000123-1680179400-1680193800@sfgmedicare.com
SUMMARY:Knoxville Bar Association - Law Practice Today Expo
DESCRIPTION:Join Senior Financial Group at the 2023 Law Practice Today Expo on March 30 and 31\, 2023. \nThe Expo combines continuing legal education\, access to business service providers\, and networking events to help local lawyers do their job better\, faster and more efficiently. The theme for the 2023 Expo is “Technology & Management Best Practices for a Modern Law Office”. The presentations\, panel discussions and idea exchanges will provide education and networking to lawyers and law firm staff from large\, small and midsize firms.
URL:https://sfgmedicare.com/event/knoxville-bar-association-law-practice-today-expo/
LOCATION:University of Tennessee Conference Center\, 600 Henley Street\, Knoxville\, TN\, 37902\, United States
CATEGORIES:Events
ATTACH;FMTTYPE=image/webp:https://sfgmedicare.com/app/uploads/2023/01/expo-logo-20231.webp
END:VEVENT
BEGIN:VEVENT
DTSTART;TZID=America/New_York:20230331T070000
DTEND;TZID=America/New_York:20230331T120000
DTSTAMP:20260425T210812
CREATED:20230117T210715Z
LAST-MODIFIED:20230308T164759Z
UID:10000126-1680246000-1680264000@sfgmedicare.com
SUMMARY:O'Connor Senior Center Pancake Fest
DESCRIPTION:The O’Connor Pancake Fest has become an annual event that spotlights activities and amazing participants while giving an opportunity for community fellowship. General admission tickets will be $5.00 per person and include a box of pancakes (gluten free and sugar free options available)\, sausage and choice of juice\, water\, milk\, or coffee.
URL:https://sfgmedicare.com/event/oconnor-senior-center-pancake-fest/
LOCATION:O’Connor Senior Center\, 611 Winona St\, Knoxville\, 37917\, United States
ATTACH;FMTTYPE=image/jpeg:https://sfgmedicare.com/app/uploads/2023/01/ezgif.com-webp-to-jpg.jpg
END:VEVENT
BEGIN:VEVENT
DTSTART;TZID=America/New_York:20230331T074500
DTEND;TZID=America/New_York:20230331T160000
DTSTAMP:20260425T210812
CREATED:20230106T155033Z
LAST-MODIFIED:20230308T164917Z
UID:10000124-1680248700-1680278400@sfgmedicare.com
SUMMARY:Knoxville Bar Association – Law Practice Today Expo
DESCRIPTION:Join Senior Financial Group at the 2023 Law Practice Today Expo on March 30 and 31\, 2023. \nThe Expo combines continuing legal education\, access to business service providers\, and networking events to help local lawyers do their job better\, faster and more efficiently. The theme for the 2023 Expo is “Technology & Management Best Practices for a Modern Law Office”. The presentations\, panel discussions and idea exchanges will provide education and networking to lawyers and law firm staff from large\, small and midsize firms.
URL:https://sfgmedicare.com/event/knoxville-bar-association-law-practice-today-expo-2/
LOCATION:University of Tennessee Conference Center\, 600 Henley Street\, Knoxville\, TN\, 37902\, United States
CATEGORIES:Events
ATTACH;FMTTYPE=image/webp:https://sfgmedicare.com/app/uploads/2023/01/expo-logo-20231.webp
END:VEVENT
END:VCALENDAR