BEGIN:VCALENDAR
VERSION:2.0
PRODID:-//Senior Financial Group - ECPv6.15.13//NONSGML v1.0//EN
CALSCALE:GREGORIAN
METHOD:PUBLISH
X-WR-CALNAME:Senior Financial Group
X-ORIGINAL-URL:https://sfgmedicare.com
X-WR-CALDESC:Events for Senior Financial Group
REFRESH-INTERVAL;VALUE=DURATION:PT1H
X-Robots-Tag:noindex
X-PUBLISHED-TTL:PT1H
BEGIN:VTIMEZONE
TZID:America/New_York
BEGIN:DAYLIGHT
TZOFFSETFROM:-0500
TZOFFSETTO:-0400
TZNAME:EDT
DTSTART:20220313T070000
END:DAYLIGHT
BEGIN:STANDARD
TZOFFSETFROM:-0400
TZOFFSETTO:-0500
TZNAME:EST
DTSTART:20221106T060000
END:STANDARD
BEGIN:DAYLIGHT
TZOFFSETFROM:-0500
TZOFFSETTO:-0400
TZNAME:EDT
DTSTART:20230312T070000
END:DAYLIGHT
BEGIN:STANDARD
TZOFFSETFROM:-0400
TZOFFSETTO:-0500
TZNAME:EST
DTSTART:20231105T060000
END:STANDARD
BEGIN:DAYLIGHT
TZOFFSETFROM:-0500
TZOFFSETTO:-0400
TZNAME:EDT
DTSTART:20240310T070000
END:DAYLIGHT
BEGIN:STANDARD
TZOFFSETFROM:-0400
TZOFFSETTO:-0500
TZNAME:EST
DTSTART:20241103T060000
END:STANDARD
END:VTIMEZONE
BEGIN:VEVENT
DTSTART;TZID=America/New_York:20230608T140000
DTEND;TZID=America/New_York:20230608T160000
DTSTAMP:20260425T143919
CREATED:20221215T203536Z
LAST-MODIFIED:20230504T165645Z
UID:10000115-1686232800-1686240000@sfgmedicare.com
SUMMARY:Medicare Webinar – Navigating Medicare
DESCRIPTION:Questions about Medicare? Senior Financial Group invites you to attend a FREE online educational workshop: Navigating Medicare. \nThese monthly Medicare webinars are designed to provide simple answers to your complex questions. Our licensed insurance agent will help you understand all of your Medicare options and prepare you to make educated decisions regarding your coverage.  Webinar topics include: \n\nHow and when to enroll in Medicare\nThe difference between Original Medicare\, Medicare Supplements and Medicare Advantage plans\nWhat to do if you plan to work past 65\nAn Explanation of the four parts of Medicare (A-D)\nWhat does Medicare cost\n\nWhether you are turning 65 and still working or planning to retire soon\, you will have a chance to ask your specific questions to a trusted Medicare advisor during this free webinar.  If you are unable to attend\, please call our office to schedule a private consultation. We look forward to helping you identify the best coverage for you and your family. \n\n      \n            \n            Register for this Webinar - September 24 @ 5:00 pm - 6:30 pm
URL:https://sfgmedicare.com/event/medicare-webinar-navigating-medicare-52/
LOCATION:Hybrid\, 10201 Parkside Drive\, Knoxville\, TN\, 37922\, United States
CATEGORIES:Webinars
ATTACH;FMTTYPE=image/jpeg:https://sfgmedicare.com/app/uploads/2022/12/2023-3.jpg
END:VEVENT
BEGIN:VEVENT
DTSTART;TZID=America/New_York:20230620T100000
DTEND;TZID=America/New_York:20230620T120000
DTSTAMP:20260425T143919
CREATED:20221215T203637Z
LAST-MODIFIED:20230504T165749Z
UID:10000116-1687255200-1687262400@sfgmedicare.com
SUMMARY:Medicare Webinar – Navigating Medicare
DESCRIPTION:Questions about Medicare? Senior Financial Group invites you to attend a FREE online educational workshop: Navigating Medicare. \nThese monthly Medicare webinars are designed to provide simple answers to your complex questions. Our licensed insurance agent will help you understand all of your Medicare options and prepare you to make educated decisions regarding your coverage.  Webinar topics include: \n\nHow and when to enroll in Medicare\nThe difference between Original Medicare\, Medicare Supplements and Medicare Advantage plans\nWhat to do if you plan to work past 65\nAn Explanation of the four parts of Medicare (A-D)\nWhat does Medicare cost\n\nWhether you are turning 65 and still working or planning to retire soon\, you will have a chance to ask your specific questions to a trusted Medicare advisor during this free webinar.  If you are unable to attend\, please call our office to schedule a private consultation. We look forward to helping you identify the best coverage for you and your family. \n\n      \n            \n            Register for this Webinar - September 24 @ 5:00 pm - 6:30 pm
URL:https://sfgmedicare.com/event/medicare-webinar-navigating-medicare-53/
LOCATION:Hybrid\, 10201 Parkside Drive\, Knoxville\, TN\, 37922\, United States
CATEGORIES:Webinars
ATTACH;FMTTYPE=image/jpeg:https://sfgmedicare.com/app/uploads/2022/12/2023-4.jpg
END:VEVENT
BEGIN:VEVENT
DTSTART;TZID=America/New_York:20230622T190000
DTEND;TZID=America/New_York:20230622T220000
DTSTAMP:20260425T143919
CREATED:20230613T142307Z
LAST-MODIFIED:20230613T142307Z
UID:10000136-1687460400-1687471200@sfgmedicare.com
SUMMARY:Tennessee Smokies - Hope at Bat
DESCRIPTION:Join Senior Financial Group at the Tennessee Smokies baseball game for an inspiring event\, “Hope at Bat\,” on Thursday\, June 22. We are proud to be a part of this partnership between the Smokies and the American Cancer Society\, dedicated to honoring cancer survivors and caregivers. \nDuring the game\, cancer survivors and caregivers will be recognized with ceremonial first pitch events\, symbolizing their resilience and strength. Fans and players alike will have the opportunity to create “I go to bat for…” cards\, offering heartfelt tributes to individuals currently battling or who have overcome cancer. \nAs you enjoy the exciting game\, take part in the in-game tributes and show your support for those affected by cancer. Additionally\, there will be two team-autographed purple bats featuring the ‘Hope at Bat’ logo available for auction. The proceeds from one bat will contribute to a local cancer-fighting organization\, while the other will raise funds for the American Cancer Society’s national campaign. \nBe sure to visit the Senior Financial Group booth\, where our knowledgeable team will be available to provide information and assistance regarding financial planning and support options for Medicare recipients and families impacted by cancer. We are here to offer guidance and help navigate the financial aspects of the journey. \nDon’t miss this opportunity to come together as a community\, celebrate survivors\, honor caregivers\, and contribute to the fight against cancer. Join us at the Tennessee Smokies baseball game on June 22 for a memorable evening filled with hope\, unity\, and support. \nWe look forward to seeing you there!
URL:https://sfgmedicare.com/event/tennessee-smokies-hope-at-bat/
LOCATION:Tennessee Smokies Stadium\, 3540 Line Dr\, Kodak\, TN\, 37764
CATEGORIES:Events
ATTACH;FMTTYPE=image/jpeg:https://sfgmedicare.com/app/uploads/2023/04/553.jpg
END:VEVENT
END:VCALENDAR