BEGIN:VCALENDAR
VERSION:2.0
PRODID:-//Senior Financial Group - ECPv6.15.13//NONSGML v1.0//EN
CALSCALE:GREGORIAN
METHOD:PUBLISH
X-ORIGINAL-URL:https://sfgmedicare.com
X-WR-CALDESC:Events for Senior Financial Group
REFRESH-INTERVAL;VALUE=DURATION:PT1H
X-Robots-Tag:noindex
X-PUBLISHED-TTL:PT1H
BEGIN:VTIMEZONE
TZID:America/New_York
BEGIN:DAYLIGHT
TZOFFSETFROM:-0500
TZOFFSETTO:-0400
TZNAME:EDT
DTSTART:20220313T070000
END:DAYLIGHT
BEGIN:STANDARD
TZOFFSETFROM:-0400
TZOFFSETTO:-0500
TZNAME:EST
DTSTART:20221106T060000
END:STANDARD
BEGIN:DAYLIGHT
TZOFFSETFROM:-0500
TZOFFSETTO:-0400
TZNAME:EDT
DTSTART:20230312T070000
END:DAYLIGHT
BEGIN:STANDARD
TZOFFSETFROM:-0400
TZOFFSETTO:-0500
TZNAME:EST
DTSTART:20231105T060000
END:STANDARD
BEGIN:DAYLIGHT
TZOFFSETFROM:-0500
TZOFFSETTO:-0400
TZNAME:EDT
DTSTART:20240310T070000
END:DAYLIGHT
BEGIN:STANDARD
TZOFFSETFROM:-0400
TZOFFSETTO:-0500
TZNAME:EST
DTSTART:20241103T060000
END:STANDARD
END:VTIMEZONE
BEGIN:VEVENT
DTSTART;TZID=America/New_York:20230713T140000
DTEND;TZID=America/New_York:20230713T160000
DTSTAMP:20260425T125432
CREATED:20230504T170024Z
LAST-MODIFIED:20230713T140245Z
UID:10000132-1689256800-1689264000@sfgmedicare.com
SUMMARY:Medicare Workshop – Navigating Medicare
DESCRIPTION:Questions about Medicare? Senior Financial Group invites you to attend a FREE educational workshop: Navigating Medicare. \nThese monthly Medicare workshops are designed to provide simple answers to your complex questions. Our licensed insurance agent will help you understand all of your Medicare options and prepare you to make educated decisions regarding your coverage.  Workshop topics include: \n\nHow and when to enroll in Medicare\nThe difference between Original Medicare\, Medicare Supplements and Medicare Advantage plans\nWhat to do if you plan to work past 65\nAn Explanation of the four parts of Medicare (A-D)\nWhat does Medicare cost\n\nWhether you are turning 65 and still working or planning to retire soon\, you will have a chance to ask your specific questions to a trusted Medicare advisor during this free workshop.  If you are unable to attend\, please call our office to schedule a private consultation. We look forward to helping you identify the best coverage for you and your family. \n\n      \n            \n            Register for this Webinar - September 24 @ 5:00 pm - 6:30 pm
URL:https://sfgmedicare.com/event/medicare-webinar-navigating-medicare-54/
LOCATION:Hybrid\, 10201 Parkside Drive\, Knoxville\, TN\, 37922\, United States
CATEGORIES:Workshops
ATTACH;FMTTYPE=image/jpeg:https://sfgmedicare.com/app/uploads/2023/05/Music-Festival-Facebook-Event-Cover-2.jpg
END:VEVENT
BEGIN:VEVENT
DTSTART;TZID=America/New_York:20230719T190000
DTEND;TZID=America/New_York:20230719T220000
DTSTAMP:20260425T125432
CREATED:20230713T134548Z
LAST-MODIFIED:20230713T134548Z
UID:10000137-1689793200-1689804000@sfgmedicare.com
SUMMARY:Tennessee Smokies - All-You-Can-Eat Wednesday
DESCRIPTION:Join us at the Tennessee Smokies game on Wednesday\, July 19\, for an unforgettable evening of baseball and delicious food! It’s “All-You-Can-Eat Wednesday” where you can indulge in a mouthwatering buffet featuring grilled hamburgers\, hot dogs\, nachos with cheese\, Bush’s Baked Beans\, potato salad\, Uncle Ray’s Potato Chips\, popcorn\, Mayfield Ice Cream Sandwiches\, and refreshing Pepsi products. The buffet will be available from 6-8pm\, so make sure to come hungry! While you’re there\, don’t forget to visit the Senior Financial Group booth to learn more about our services and how we can help you navigate the world of Medicare. See you at the game!
URL:https://sfgmedicare.com/event/tennessee-smokies-all-you-can-eat-wednesday/
LOCATION:Tennessee Smokies Stadium\, 3540 Line Dr\, Kodak\, TN\, 37764
CATEGORIES:Events
ATTACH;FMTTYPE=image/jpeg:https://sfgmedicare.com/app/uploads/2023/04/553.jpg
END:VEVENT
BEGIN:VEVENT
DTSTART;TZID=America/New_York:20230725T100000
DTEND;TZID=America/New_York:20230725T120000
DTSTAMP:20260425T125432
CREATED:20230504T170451Z
LAST-MODIFIED:20230713T140325Z
UID:10000133-1690279200-1690286400@sfgmedicare.com
SUMMARY:Medicare Workshop - Navigating Medicare
DESCRIPTION:Questions about Medicare? Senior Financial Group invites you to attend a FREE educational workshop: Navigating Medicare. \nThese monthly Medicare workshops are designed to provide simple answers to your complex questions. Our licensed insurance agent will help you understand all of your Medicare options and prepare you to make educated decisions regarding your coverage.  Workshop topics include: \n\nHow and when to enroll in Medicare\nThe difference between Original Medicare\, Medicare Supplements and Medicare Advantage plans\nWhat to do if you plan to work past 65\nAn Explanation of the four parts of Medicare (A-D)\nWhat does Medicare cost\n\nWhether you are turning 65 and still working or planning to retire soon\, you will have a chance to ask your specific questions to a trusted Medicare advisor during this free workshop.  If you are unable to attend\, please call our office to schedule a private consultation. We look forward to helping you identify the best coverage for you and your family. \n\n      \n            \n            Register for this Webinar - September 24 @ 5:00 pm - 6:30 pm
URL:https://sfgmedicare.com/event/11063/
LOCATION:Hybrid\, 10201 Parkside Drive\, Knoxville\, TN\, 37922\, United States
CATEGORIES:Workshops
ATTACH;FMTTYPE=image/jpeg:https://sfgmedicare.com/app/uploads/2023/05/Music-Festival-Facebook-Event-Cover-1.jpg
END:VEVENT
END:VCALENDAR