BEGIN:VCALENDAR
VERSION:2.0
PRODID:-//Senior Financial Group - ECPv6.15.13//NONSGML v1.0//EN
CALSCALE:GREGORIAN
METHOD:PUBLISH
X-WR-CALNAME:Senior Financial Group
X-ORIGINAL-URL:https://sfgmedicare.com
X-WR-CALDESC:Events for Senior Financial Group
REFRESH-INTERVAL;VALUE=DURATION:PT1H
X-Robots-Tag:noindex
X-PUBLISHED-TTL:PT1H
BEGIN:VTIMEZONE
TZID:America/New_York
BEGIN:DAYLIGHT
TZOFFSETFROM:-0500
TZOFFSETTO:-0400
TZNAME:EDT
DTSTART:20230312T070000
END:DAYLIGHT
BEGIN:STANDARD
TZOFFSETFROM:-0400
TZOFFSETTO:-0500
TZNAME:EST
DTSTART:20231105T060000
END:STANDARD
BEGIN:DAYLIGHT
TZOFFSETFROM:-0500
TZOFFSETTO:-0400
TZNAME:EDT
DTSTART:20240310T070000
END:DAYLIGHT
BEGIN:STANDARD
TZOFFSETFROM:-0400
TZOFFSETTO:-0500
TZNAME:EST
DTSTART:20241103T060000
END:STANDARD
BEGIN:DAYLIGHT
TZOFFSETFROM:-0500
TZOFFSETTO:-0400
TZNAME:EDT
DTSTART:20250309T070000
END:DAYLIGHT
BEGIN:STANDARD
TZOFFSETFROM:-0400
TZOFFSETTO:-0500
TZNAME:EST
DTSTART:20251102T060000
END:STANDARD
END:VTIMEZONE
BEGIN:VEVENT
DTSTART;TZID=America/New_York:20240208T100000
DTEND;TZID=America/New_York:20240208T120000
DTSTAMP:20260424T171424
CREATED:20231218T212851Z
LAST-MODIFIED:20231219T152837Z
UID:10000158-1707386400-1707393600@sfgmedicare.com
SUMMARY:Medicare 101 Workshop - February 8
DESCRIPTION:Questions about Medicare? Senior Financial Group invites you to attend a free educational workshop: Navigating Medicare. These monthly Medicare workshops are designed to provide simple answers to your complex questions. Our team of Medicare experts will help you understand all of your Medicare options and prepare you to make educated decisions regarding your coverage. Workshop topics include: \n\nMedicare Enrollment\nParts of Medicare (A-D)\nOriginal Medicare\, Medicare Supplements and Medicare Advantage plans\nMedicare costs\nWorking past 65\n\nWhether you are turning 65 and still working or planning to retire soon\, you will have a chance to ask your specific questions to a trusted Medicare expert during this free workshop.  If you are unable to attend\, please call our office to schedule a private consultation.
URL:https://sfgmedicare.com/event/medicare-workshop-navigating-medicare-11/
LOCATION:Senior Financial Group\, 10201 Parkside Drive\, Knoxville\, TN\, 37922\, United States
ATTACH;FMTTYPE=image/jpeg:https://sfgmedicare.com/app/uploads/2023/12/Medicare-Workshop-26.jpg
END:VEVENT
BEGIN:VEVENT
DTSTART;TZID=America/New_York:20240215T170000
DTEND;TZID=America/New_York:20240215T190000
DTSTAMP:20260424T171424
CREATED:20231219T152756Z
LAST-MODIFIED:20231219T152931Z
UID:10000159-1708016400-1708023600@sfgmedicare.com
SUMMARY:Medicare 101 Workshop - February 15
DESCRIPTION:Questions about Medicare? Senior Financial Group invites you to attend a free educational workshop: Navigating Medicare. These monthly Medicare workshops are designed to provide simple answers to your complex questions. Our team of Medicare experts will help you understand all of your Medicare options and prepare you to make educated decisions regarding your coverage. Workshop topics include: \n\nMedicare Enrollment\nParts of Medicare (A-D)\nOriginal Medicare\, Medicare Supplements and Medicare Advantage plans\nMedicare costs\nWorking past 65\n\nWhether you are turning 65 and still working or planning to retire soon\, you will have a chance to ask your specific questions to a trusted Medicare expert during this free workshop.  If you are unable to attend\, please call our office to schedule a private consultation.
URL:https://sfgmedicare.com/event/medicare-101-workshop-february-15/
LOCATION:Senior Financial Group\, 10201 Parkside Drive\, Knoxville\, TN\, 37922\, United States
ATTACH;FMTTYPE=image/jpeg:https://sfgmedicare.com/app/uploads/2023/12/Medicare-Workshop-26.jpg
END:VEVENT
BEGIN:VEVENT
DTSTART;TZID=America/New_York:20240220T140000
DTEND;TZID=America/New_York:20240220T160000
DTSTAMP:20260424T171424
CREATED:20231219T153322Z
LAST-MODIFIED:20231219T153322Z
UID:10000160-1708437600-1708444800@sfgmedicare.com
SUMMARY:Medicare 101 Workshop - February 20
DESCRIPTION:Questions about Medicare? Senior Financial Group invites you to attend a free educational workshop: Navigating Medicare. These monthly Medicare workshops are designed to provide simple answers to your complex questions. Our team of Medicare experts will help you understand all of your Medicare options and prepare you to make educated decisions regarding your coverage. Workshop topics include: \n\nMedicare Enrollment\nParts of Medicare (A-D)\nOriginal Medicare\, Medicare Supplements and Medicare Advantage plans\nMedicare costs\nWorking past 65\n\nWhether you are turning 65 and still working or planning to retire soon\, you will have a chance to ask your specific questions to a trusted Medicare expert during this free workshop.  If you are unable to attend\, please call our office to schedule a private consultation.
URL:https://sfgmedicare.com/event/medicare-101-workshop-february-20/
LOCATION:Senior Financial Group\, 10201 Parkside Drive\, Knoxville\, TN\, 37922\, United States
ATTACH;FMTTYPE=image/jpeg:https://sfgmedicare.com/app/uploads/2023/12/Medicare-Workshop-26.jpg
END:VEVENT
BEGIN:VEVENT
DTSTART;TZID=America/New_York:20240222T150000
DTEND;TZID=America/New_York:20240222T160000
DTSTAMP:20260424T171424
CREATED:20240123T204000Z
LAST-MODIFIED:20240202T211225Z
UID:10000170-1708614000-1708617600@sfgmedicare.com
SUMMARY:Senior Happy Hour - Avoiding Scams & Preventing Fraud
DESCRIPTION:Curious about outsmarting scammers and safeguarding your financial peace of mind? Join us for an engaging Senior Happy Hour presentation featuring Tim Massie\, Financial Advisor at Edward Jones. Uncover the subtle red flags that might signal a fraudulent encounter\, explore available resources for those targeted\, and gain actionable insights to proactively protect yourself and your loved ones from Medicare scams. Don’t miss out on this opportunity to stay one step ahead of scammers and ensure a secure future! \nThis event is free and open-to-the-public. Drinks and snacks will be provided for your enjoyment throughout the event.
URL:https://sfgmedicare.com/event/senior-happy-hour-medicare-scams/
LOCATION:TN
CATEGORIES:Senior Happy Hour
ATTACH;FMTTYPE=image/jpeg:https://sfgmedicare.com/app/uploads/2024/01/Medicare-Workshop-28.jpg
END:VEVENT
END:VCALENDAR