BEGIN:VCALENDAR
VERSION:2.0
PRODID:-//Senior Financial Group - ECPv6.15.13//NONSGML v1.0//EN
CALSCALE:GREGORIAN
METHOD:PUBLISH
X-WR-CALNAME:Senior Financial Group
X-ORIGINAL-URL:https://sfgmedicare.com
X-WR-CALDESC:Events for Senior Financial Group
REFRESH-INTERVAL;VALUE=DURATION:PT1H
X-Robots-Tag:noindex
X-PUBLISHED-TTL:PT1H
BEGIN:VTIMEZONE
TZID:America/New_York
BEGIN:DAYLIGHT
TZOFFSETFROM:-0500
TZOFFSETTO:-0400
TZNAME:EDT
DTSTART:20230312T070000
END:DAYLIGHT
BEGIN:STANDARD
TZOFFSETFROM:-0400
TZOFFSETTO:-0500
TZNAME:EST
DTSTART:20231105T060000
END:STANDARD
BEGIN:DAYLIGHT
TZOFFSETFROM:-0500
TZOFFSETTO:-0400
TZNAME:EDT
DTSTART:20240310T070000
END:DAYLIGHT
BEGIN:STANDARD
TZOFFSETFROM:-0400
TZOFFSETTO:-0500
TZNAME:EST
DTSTART:20241103T060000
END:STANDARD
BEGIN:DAYLIGHT
TZOFFSETFROM:-0500
TZOFFSETTO:-0400
TZNAME:EDT
DTSTART:20250309T070000
END:DAYLIGHT
BEGIN:STANDARD
TZOFFSETFROM:-0400
TZOFFSETTO:-0500
TZNAME:EST
DTSTART:20251102T060000
END:STANDARD
END:VTIMEZONE
BEGIN:VEVENT
DTSTART;TZID=America/New_York:20240307T100000
DTEND;TZID=America/New_York:20240307T120000
DTSTAMP:20260424T120839
CREATED:20231219T153953Z
LAST-MODIFIED:20231219T154223Z
UID:10000161-1709805600-1709812800@sfgmedicare.com
SUMMARY:Medicare 101 Workshop - March 7
DESCRIPTION:Questions about Medicare? Senior Financial Group invites you to attend a free educational workshop: Navigating Medicare. These monthly Medicare workshops are designed to provide simple answers to your complex questions. Our team of Medicare experts will help you understand all of your Medicare options and prepare you to make educated decisions regarding your coverage. Workshop topics include: \n\nMedicare Enrollment\nParts of Medicare (A-D)\nOriginal Medicare\, Medicare Supplements and Medicare Advantage plans\nMedicare costs\nWorking past 65\n\nWhether you are turning 65 and still working or planning to retire soon\, you will have a chance to ask your specific questions to a trusted Medicare expert during this free workshop.  If you are unable to attend\, please call our office to schedule a private consultation.
URL:https://sfgmedicare.com/event/medicare-101-workshop-march-7/
LOCATION:Senior Financial Group\, 10201 Parkside Drive\, Knoxville\, TN\, 37922\, United States
ATTACH;FMTTYPE=image/jpeg:https://sfgmedicare.com/app/uploads/2023/12/Medicare-Workshop-26.jpg
END:VEVENT
BEGIN:VEVENT
DTSTART;TZID=America/New_York:20240319T140000
DTEND;TZID=America/New_York:20240319T150000
DTSTAMP:20260424T120839
CREATED:20231219T154133Z
LAST-MODIFIED:20240313T191717Z
UID:10000162-1710856800-1710860400@sfgmedicare.com
SUMMARY:Medicare 101 Workshop - March 19
DESCRIPTION:Questions about Medicare? Senior Financial Group invites you to attend a free educational workshop: Navigating Medicare. These monthly Medicare workshops are designed to provide simple answers to your complex questions. Our team of Medicare experts will help you understand all of your Medicare options and prepare you to make educated decisions regarding your coverage. Workshop topics include: \n\nMedicare Enrollment\nParts of Medicare (A-D)\nOriginal Medicare\, Medicare Supplements and Medicare Advantage plans\nMedicare costs\nWorking past 65\n\nWhether you are turning 65 and still working or planning to retire soon\, you will have a chance to ask your specific questions to a trusted Medicare expert during this free workshop.  If you are unable to attend\, please call our office to schedule a private consultation.
URL:https://sfgmedicare.com/event/medicare-101-workshop-march-19/
LOCATION:Senior Financial Group\, 10201 Parkside Drive\, Knoxville\, TN\, 37922\, United States
ATTACH;FMTTYPE=image/jpeg:https://sfgmedicare.com/app/uploads/2023/12/Medicare-Workshop-26.jpg
END:VEVENT
END:VCALENDAR