BEGIN:VCALENDAR
VERSION:2.0
PRODID:-//Senior Financial Group - ECPv6.15.13//NONSGML v1.0//EN
CALSCALE:GREGORIAN
METHOD:PUBLISH
X-ORIGINAL-URL:https://sfgmedicare.com
X-WR-CALDESC:Events for Senior Financial Group
REFRESH-INTERVAL;VALUE=DURATION:PT1H
X-Robots-Tag:noindex
X-PUBLISHED-TTL:PT1H
BEGIN:VTIMEZONE
TZID:America/New_York
BEGIN:DAYLIGHT
TZOFFSETFROM:-0500
TZOFFSETTO:-0400
TZNAME:EDT
DTSTART:20230312T070000
END:DAYLIGHT
BEGIN:STANDARD
TZOFFSETFROM:-0400
TZOFFSETTO:-0500
TZNAME:EST
DTSTART:20231105T060000
END:STANDARD
BEGIN:DAYLIGHT
TZOFFSETFROM:-0500
TZOFFSETTO:-0400
TZNAME:EDT
DTSTART:20240310T070000
END:DAYLIGHT
BEGIN:STANDARD
TZOFFSETFROM:-0400
TZOFFSETTO:-0500
TZNAME:EST
DTSTART:20241103T060000
END:STANDARD
BEGIN:DAYLIGHT
TZOFFSETFROM:-0500
TZOFFSETTO:-0400
TZNAME:EDT
DTSTART:20250309T070000
END:DAYLIGHT
BEGIN:STANDARD
TZOFFSETFROM:-0400
TZOFFSETTO:-0500
TZNAME:EST
DTSTART:20251102T060000
END:STANDARD
END:VTIMEZONE
BEGIN:VEVENT
DTSTART;TZID=America/New_York:20240411T100000
DTEND;TZID=America/New_York:20240411T110000
DTSTAMP:20260424T090619
CREATED:20231219T154444Z
LAST-MODIFIED:20240313T191741Z
UID:10000163-1712829600-1712833200@sfgmedicare.com
SUMMARY:Medicare 101 Workshop - April 11
DESCRIPTION:Questions about Medicare? Senior Financial Group invites you to attend a free educational workshop: Navigating Medicare. These monthly Medicare workshops are designed to provide simple answers to your complex questions. Our team of Medicare experts will help you understand all of your Medicare options and prepare you to make educated decisions regarding your coverage. Workshop topics include: \n\nMedicare Enrollment\nParts of Medicare (A-D)\nOriginal Medicare\, Medicare Supplements and Medicare Advantage plans\nMedicare costs\nWorking past 65\n\nWhether you are turning 65 and still working or planning to retire soon\, you will have a chance to ask your specific questions to a trusted Medicare expert during this free workshop.  If you are unable to attend\, please call our office to schedule a private consultation.
URL:https://sfgmedicare.com/event/medicare-101-workshop-april-11/
LOCATION:Senior Financial Group\, 10201 Parkside Drive\, Knoxville\, TN\, 37922\, United States
ATTACH;FMTTYPE=image/jpeg:https://sfgmedicare.com/app/uploads/2023/12/Medicare-Workshop-26.jpg
END:VEVENT
BEGIN:VEVENT
DTSTART;TZID=America/New_York:20240423T140000
DTEND;TZID=America/New_York:20240423T150000
DTSTAMP:20260424T090619
CREATED:20231219T154618Z
LAST-MODIFIED:20240313T191842Z
UID:10000164-1713880800-1713884400@sfgmedicare.com
SUMMARY:Medicare 101 Workshop - April 23
DESCRIPTION:Questions about Medicare? Senior Financial Group invites you to attend a free educational workshop: Navigating Medicare. These monthly Medicare workshops are designed to provide simple answers to your complex questions. Our team of Medicare experts will help you understand all of your Medicare options and prepare you to make educated decisions regarding your coverage. Workshop topics include: \n\nMedicare Enrollment\nParts of Medicare (A-D)\nOriginal Medicare\, Medicare Supplements and Medicare Advantage plans\nMedicare costs\nWorking past 65\n\nWhether you are turning 65 and still working or planning to retire soon\, you will have a chance to ask your specific questions to a trusted Medicare expert during this free workshop.  If you are unable to attend\, please call our office to schedule a private consultation.
URL:https://sfgmedicare.com/event/medicare-101-workshop-april-23/
LOCATION:Senior Financial Group\, 10201 Parkside Drive\, Knoxville\, TN\, 37922\, United States
ATTACH;FMTTYPE=image/jpeg:https://sfgmedicare.com/app/uploads/2023/12/Medicare-Workshop-26.jpg
END:VEVENT
BEGIN:VEVENT
DTSTART;TZID=America/New_York:20240425T150000
DTEND;TZID=America/New_York:20240425T160000
DTSTAMP:20260424T090619
CREATED:20240401T175237Z
LAST-MODIFIED:20240416T151346Z
UID:10000171-1714057200-1714060800@sfgmedicare.com
SUMMARY:Senior Happy Hour - AmeriCorps Seniors
DESCRIPTION:Join Us for Senior Happy Hour!\nMingle\, Connect\, and Learn! \nYou’re invited to Senior Happy Hour at Senior Financial Group! \nDate: Thursday\, April 25th \nTime: 3:00 PM – 4:00 PM \nLocation: Senior Financial Group – 10201 Parkside Drive \nPresentation: AmeriCorps Seniors Programs – Classroom Grandparents\, Senior Companions and RSVP \nEnjoy an afternoon of socializing\, refreshments\, and valuable information. This month\, we’ll be joined by special guests from AmeriCorps Seniors! \nAmeriCorps Seniors connects volunteers aged 55 and over with opportunities to give back to their communities. Representatives will be on hand to discuss their programs and how you can get involved. \nWhether you’re looking to: \n\nMake new friends\nLearn about local resources\nExplore volunteer opportunities in your community\n\nSenior Happy Hour is the perfect place to be! \nLight refreshments will be served.
URL:https://sfgmedicare.com/event/senior-happy-hour-americorps-seniors/
LOCATION:Senior Financial Group\, 10201 Parkside Drive\, Knoxville\, TN\, 37922\, United States
CATEGORIES:Senior Happy Hour
ATTACH;FMTTYPE=image/jpeg:https://sfgmedicare.com/app/uploads/2024/04/Medicare-Workshop-29.jpg
END:VEVENT
END:VCALENDAR